BEGIN:VCALENDAR
VERSION:2.0
PRODID:-//Eventin//Event Calendar//EN
CALSCALE:GREGORIAN
METHOD:PUBLISH
BEGIN:VEVENT
UID:0426010b65e89129dd287b67f7a2a1c2@burdelliterario.com
SUMMARY:House of Vamp Medellín 🧛‍♀️🌹
DESCRIPTION:En una casa secreta\, donde la noche cobra vida\, te espera Hou
 se of Vamp.Una fiesta erotica de sensualidad y elegancia\, donde el deseo s
 e viste de oscuridad.Dress code : Vampiros clásicos\, perlas\, transparenc
 ias\, mallas\, cuero.Tendremos🧛‍♀️🌹 Zonas de juego k¡nky (llev
 a tus juguetes)🧛‍♀️🌹 Shows\, experiencias artisticas.🧛‍♀
 ️🌹Djs y zona de baile.🧛‍♀️🌹 Ambiente libre de prejuicios p
 ara explorar la sxalidad.\nLa diversión y el picante\, lo ponen ustedes.No
 s reservamos el derecho de admisión.\n🌹 Mayo 8 – 9:30pm a 3:00 Am🌹
 Cra. 43 #56-25\, La Candelaria\, Medellín🌹Entrada: 140mil x pareja\, 13
 0mil comunidad BL\, 200mil trieja.Persona individual\, preguntar disponibil
 idad.\nPara hacer a inscripción se debe hacer el pago de manera previa. Un
 a vez enviado el comprobante me dejas tu nombre\, teléfono y correo para h
 acer valida tu reserva.\n▪️No hay devoluciones.\nMedios de pago:🔶Aho
 rros Bancolombia31033412234Nequi 3218351157TC: https://mpago.li/2RN2FbH
LOCATION:Mens Club\, Cra. 43 #56-25\, La Candelaria\, Medellín
DTSTAMP:20260422T090236Z
DTSTART:20260509T020000Z
DTEND:20260509T080500Z
END:VEVENT
END:VCALENDAR
